BEGIN:VCALENDAR
PRODID:-//AT Content Types//AT Event//EN
VERSION:2.0
METHOD:PUBLISH
BEGIN:VEVENT
DTSTAMP:20260419T161042Z
CREATED:20181010T123109Z
LAST-MODIFIED:20190108T121450Z
SUMMARY:L'Archivio storico per il Vajont
DTSTART:20131010T220000Z
DTEND:20131010T220000Z
URL:https://archiviostorico.unibo.it/it/bacheca/larchivio-storico-per-il-vajont
CLASS:PUBLIC
END:VEVENT
END:VCALENDAR
